BEGIN:VCALENDAR
VERSION:2.0
PRODID:-//ChamberMaster//Event Calendar 2.0//EN
METHOD:PUBLISH
X-PUBLISHED-TTL:P3D
REFRESH-INTERVAL:P3D
CALSCALE:GREGORIAN
BEGIN:VEVENT
DTSTART:20210424T230000Z
DTEND:20210425T040000Z
X-MICROSOFT-CDO-ALLDAYEVENT:FALSE
SUMMARY:CANCELLED: Central Spring Fling!
DESCRIPTION:Get ready for a good time!\n\n\n\nJoin us the evening of April 24 for a Spring Fling in Central!\n\n\n\n- There will be MUSIC    from the Honkey Tonk Playboys and a DJ!\n\n- FOOD   !\n\n- FUN   !\n\n\n\nSee you for a great time!\n\n\n\nClick "Register" to get your tickets or sign up for a sponsorship. To be included on print materials the sponsorship deadline is March 26. \n\n\n\nTitle or Presenting Sponsor (Exclusive) - $1\,000\n\n	Spring Fling Presented by  \n	Logo on web\n	Logo on social media\n	Logo on banner at event\n	Logo on stage\n	Name on yard signs\n	Shout out from DJ at event\n	Three tickets\n\n \n\nStage Sponsor (Exclusive) - $750\n\n\n	Website recognition\n	Logo on web\n	Logo on social media\n	Logo on banner at event\n	Logo on stage\n	Name on yard signs\n	Shout out from DJ at event\n	Two tickets\n\n \n\nEvent sponsor (Unlimited) - $200\n\n\n	Logo on web\n	Logo on SM\n	Name on Banner\n	Name on one yard sign\n	One ticket
X-ALT-DESC;FMTTYPE=text/html:<span style="font-size:16px\;"><span style="font-family:arial\;">Get ready for a good time!<br />\n<br />\nJoin us the evening of April 24 for a Spring Fling in Central!<br />\n<br />\n- There will be MUSIC&nbsp\; &#127928\; from the Honkey Tonk Playboys and a DJ!<br />\n- FOOD&nbsp\; &#127789\;!<br />\n- FUN&nbsp\; &#128588\;!<br />\n<br />\nSee you for a great time!<br />\n<br />\nClick &quot\;Register&quot\; to get your tickets or sign up for a sponsorship. To be included on print materials the sponsorship deadline is March 26.&nbsp\;<br />\n<br />\n<strong>Title or Presenting Sponsor (Exclusive) - $1\,000</strong></span></span>\n<ul>\n	<li><span style="font-family:arial\;"><span style="font-size:16px\;">Spring Fling Presented by &ndash\;</span></span></li>\n	<li><span style="font-family:arial\;"><span style="font-size:16px\;">Logo on web</span></span></li>\n	<li><span style="font-family:arial\;"><span style="font-size:16px\;">Logo on social media</span></span></li>\n	<li><span style="font-family:arial\;"><span style="font-size:16px\;">Logo on banner at event</span></span></li>\n	<li><span style="font-family:arial\;"><span style="font-size:16px\;">Logo on stage</span></span></li>\n	<li><span style="font-family:arial\;"><span style="font-size:16px\;">Name on yard signs</span></span></li>\n	<li><span style="font-family:arial\;"><span style="font-size:16px\;">Shout out from DJ at event</span></span></li>\n	<li><span style="font-family:arial\;"><span style="font-size:16px\;">Three tickets</span></span></li>\n</ul>\n<span style="font-family:arial\;"><span style="font-size:16px\;">&nbsp\;<br />\n<strong>Stage Sponsor (Exclusive) - $750</strong></span></span>\n\n<ul>\n	<li><span style="font-family:arial\;"><span style="font-size:16px\;">Website recognition</span></span></li>\n	<li><span style="font-family:arial\;"><span style="font-size:16px\;">Logo on web</span></span></li>\n	<li><span style="font-family:arial\;"><span style="font-size:16px\;">Logo on social media</span></span></li>\n	<li><span style="font-family:arial\;"><span style="font-size:16px\;">Logo on banner at event</span></span></li>\n	<li><span style="font-family:arial\;"><span style="font-size:16px\;">Logo on stage</span></span></li>\n	<li><span style="font-family:arial\;"><span style="font-size:16px\;">Name on yard signs</span></span></li>\n	<li><span style="font-family:arial\;"><span style="font-size:16px\;">Shout out from DJ at event</span></span></li>\n	<li><span style="font-family:arial\;"><span style="font-size:16px\;">Two tickets</span></span></li>\n</ul>\n<span style="font-family:arial\;"><span style="font-size:16px\;">&nbsp\;<br />\n<strong>Event sponsor (Unlimited) - $200</strong></span></span>\n\n<ul>\n	<li><span style="font-family:arial\;"><span style="font-size:16px\;">Logo on web</span></span></li>\n	<li><span style="font-family:arial\;"><span style="font-size:16px\;">Logo on SM</span></span></li>\n	<li><span style="font-family:arial\;"><span style="font-size:16px\;">Name on Banner</span></span></li>\n	<li><span style="font-family:arial\;"><span style="font-size:16px\;">Name on one yard sign</span></span></li>\n	<li><span style="font-family:arial\;"><span style="font-size:16px\;">One ticket</span></span></li>\n</ul>\n
LOCATION:The Amazing Place 10305 Blackwater Road Baker\, LA 70714
UID:e.1367.2974
SEQUENCE:3
DTSTAMP:20260421T051114Z
URL:http://members.cityofcentralchamber.com/events/details/cancelled-central-spring-fling-2974
END:VEVENT

END:VCALENDAR
