BEGIN:VCALENDAR
VERSION:2.0
PRODID:-//ChamberMaster//Event Calendar 2.0//EN
METHOD:PUBLISH
X-PUBLISHED-TTL:P3D
REFRESH-INTERVAL:P3D
CALSCALE:GREGORIAN
BEGIN:VEVENT
DTSTART;VALUE=DATE:20220107
DTEND;VALUE=DATE:20220108
TRANSP:TRANSPARENT
X-MICROSOFT-CDO-ALLDAYEVENT:TRUE
SUMMARY:CEU for Social Workers\, Nurses and Case Managers
DESCRIPTION:We still have open spaces for social workers\, nurses and case managers to obtain CEU credit with Cornerstone. This course is free of charge compliments of Greenoaks Memorial Park and Funeral Home\, as well as\, Central Funeral Home\, both a Dignity Memorial Provider.\n\n \n\n"Time Management During the Holiday Hustle and Bustle: Innovative Strategies to Improve Productivity and Patient Care"\n\nThe Dignity Memorial Providers of Louisiana December 2021.\n\n \n\nWhether serving the public\, civil servants\, or veterans\, this is our way of giving back to the greater Baton Rouge Community and the surrounding nine parishes in our area. Please share this information with your nurses\, social workers in your departments. This is a one-hour course\, which is to be completed at your leisure. The last day to take the class is January 7\, 2022.\n\n \n\nPlease contact Gretchen.varnell@dignitymemorial.com to pre-register.
X-ALT-DESC;FMTTYPE=text/html:<span style="font-size:16px\;">We still have open spaces for social workers\, nurses and case managers to obtain CEU credit with Cornerstone. This course is free of charge compliments of Greenoaks Memorial Park and Funeral Home\, as well as\, Central Funeral Home\, both a Dignity Memorial Provider.<br />\n&nbsp\;<br />\n&quot\;Time Management During the Holiday Hustle and Bustle: Innovative Strategies to Improve Productivity and Patient Care&quot\;<br />\nThe Dignity Memorial Providers of Louisiana December 2021.<br />\n&nbsp\;<br />\nWhether serving the public\, civil servants\, or veterans\, this is our way of giving back to the greater Baton Rouge Community and the surrounding nine parishes in our area. Please share this information with your nurses\, social workers in your departments. This is a one-hour course\, which is to be completed at your leisure. The last day to take the class is January 7\, 2022.<br />\n&nbsp\;<br />\nPlease contact&nbsp\;<a href="mailto:Gretchen.varnell@dignitymemorial.com%3cmailto:Gretchen.varnell@dignitymemorial.com">Gretchen.varnell@dignitymemorial.com</a>&nbsp\;to pre-register.</span><a href="mailto:Gretchen.varnell@dignitymemorial.com%3cmailto:Gretchen.varnell@dignitymemorial.com"><mailto:gretchen.varnell@dignitymemorial.com< a=""></mailto:gretchen.varnell@dignitymemorial.com<></a><br />\n&nbsp\;
LOCATION:This is an online course that can be taken at your leisure. Please contact Gretchen.varnell@dignitymemorial.com to pre-register.
UID:e.1367.3030
SEQUENCE:3
DTSTAMP:20260420T225614Z
URL:http://members.cityofcentralchamber.com/events/details/ceu-for-social-workers-nurses-and-case-managers-3030
END:VEVENT

END:VCALENDAR
