BEGIN:VCALENDAR
VERSION:2.0
PRODID:-//ChamberMaster//Event Calendar 2.0//EN
METHOD:PUBLISH
X-PUBLISHED-TTL:P3D
REFRESH-INTERVAL:P3D
CALSCALE:GREGORIAN
BEGIN:VEVENT
DTSTART:20260506T163000Z
DTEND:20260506T180000Z
X-MICROSOFT-CDO-ALLDAYEVENT:FALSE
SUMMARY:Investors' Monthly Luncheon
DESCRIPTION:JOIN US ON WELCOMING KAPPIE MUMPHREY!\n\nAS SHE TALKS ABOUT LSU ONLINE & CONTUNUING EDUCATION!
X-ALT-DESC;FMTTYPE=text/html:<font color="#000000"><span style="font-size: 20px\;"><b><u><span style="font-size:18px\;">JOIN US ON WELCOMING KAPPIE MUMPHREY!</span></u></b><br />\n<span style="font-size:14px\;">AS SHE TALKS ABOUT</span></span></font><span style="color:#800080\;"><span style="font-size: 20px\;"><span style="font-size:14px\;"> <strong>LSU ONLINE &amp\; CONTUNUING EDUCATION!</strong></span></span></span><br />\n&nbsp\;
LOCATION:KRISTENWOOD CATERING & RECEPTION
UID:e.1367.3262
SEQUENCE:3
DTSTAMP:20260424T203632Z
URL:http://members.cityofcentralchamber.com/events/details/investors-monthly-luncheon-3262
END:VEVENT

END:VCALENDAR
