BEGIN:VCALENDAR
VERSION:2.0
PRODID:-//ChamberMaster//Event Calendar 2.0//EN
METHOD:PUBLISH
X-PUBLISHED-TTL:P3D
REFRESH-INTERVAL:P3D
CALSCALE:GREGORIAN
BEGIN:VEVENT
DTSTART:20220112T173000Z
DTEND:20220112T190000Z
X-MICROSOFT-CDO-ALLDAYEVENT:FALSE
SUMMARY:Members' Monthly Luncheon: State of the City Address
DESCRIPTION:Join us at Kristenwood Reception Center for an update from Mayor Barrow on the state of Central.
X-ALT-DESC;FMTTYPE=text/html:<span style="font-family:arial\;"><span style="font-size:16px\;">Join us at Kristenwood Reception Center for an update from Mayor Barrow on the state of Central.&nbsp\;</span></span>
LOCATION:Kristenwood Reception 14025 Greenwell Springs Rd Greenwell Springs\, LA 70739
UID:e.1367.1691
SEQUENCE:3
DTSTAMP:20260420T225619Z
URL:http://members.cityofcentralchamber.com/events/details/members-monthly-luncheon-state-of-the-city-address-1691
END:VEVENT

END:VCALENDAR
