BEGIN:VCALENDAR
VERSION:2.0
PRODID:-//ChamberMaster//Event Calendar 2.0//EN
METHOD:PUBLISH
X-PUBLISHED-TTL:P3D
REFRESH-INTERVAL:P3D
CALSCALE:GREGORIAN
BEGIN:VEVENT
DTSTART:20220108T210000Z
DTEND:20220108T220000Z
X-MICROSOFT-CDO-ALLDAYEVENT:FALSE
SUMMARY:Ribbon Cutting | Central Private
DESCRIPTION:Grand Opening and Ribbon Cutting for Central Private.\n\n\n\nCALLING ALL CP FAMILIES\, ALUMNI & FRIENDS\n\n\n\nSave the date!\n\n\n\nSaturday | 1.8.22 | 3 pm\n\n\n\nRibbon Cutting \n\n\n\nPlan to join us to celebrate CP's new high school building & the new school year! Enjoy tours\, activities for the kids & door prizes! \n\n\n\n12650 Gurney Rd Central\, LA 70818 | 225.261.3341 | www.centralprivate.org
X-ALT-DESC;FMTTYPE=text/html:<strong style="font-size: 16px\;">Grand Opening and Ribbon Cutting for Central Private.</strong><br />\n<br />\n<span style="font-size:14px\;">CALLING ALL CP FAMILIES\, ALUMNI &amp\; FRIENDS<br />\n<br />\nSave the date!<br />\n<br />\nSaturday | 1.8.22 | 3 pm<br />\n<br />\nRibbon Cutting&nbsp\;<br />\n<br />\nPlan to join us to celebrate CP&#39\;s new high school building &amp\; the new school year! Enjoy tours\, activities for the kids &amp\; door prizes!&nbsp\;<br />\n<br />\n12650 Gurney Rd Central\, LA 70818 | 225.261.3341 | <a href="https://www.centralprivate.org/">www.centralprivate.org</a></span>
LOCATION:Central Private 12650 Gurney Rd Central\, LA 70818
UID:e.1367.3028
SEQUENCE:3
DTSTAMP:20260420T225613Z
URL:http://members.cityofcentralchamber.com/events/details/ribbon-cutting-central-private-3028
END:VEVENT

END:VCALENDAR
