BEGIN:VCALENDAR
VERSION:2.0
PRODID:-//ChamberMaster//Event Calendar 2.0//EN
METHOD:PUBLISH
X-PUBLISHED-TTL:P3D
REFRESH-INTERVAL:P3D
CALSCALE:GREGORIAN
BEGIN:VEVENT
DTSTART:20220131T140000Z
DTEND:20220131T170000Z
X-MICROSOFT-CDO-ALLDAYEVENT:FALSE
SUMMARY:Volunteers Needed: CHS Student Presentations
DESCRIPTION:Help student entrepreneurs complete their course by evaluating a 20-minute presentation reviewing what they learned this school year.\n\n\n\nStudents benefit from the feedback of established professionals and business owners. \n\n\n\nIf you would like to give back by evaluating student presentations please reach out to Lindsey LeBlanc at lleblanc@centralcss.org.\n\n\n\nPresentations begin at 8 am and conclude at 11 am at the Central High School. Refreshments will be provided.
X-ALT-DESC;FMTTYPE=text/html:<span style="font-size:16px\;">Help student entrepreneurs complete their course by evaluating a 20-minute presentation reviewing what they learned this school year.<br />\n<br />\nStudents benefit from the feedback of established professionals and business owners.&nbsp\;<br />\n<br />\nIf you would like to give back by evaluating student presentations please reach out to Lindsey LeBlanc at&nbsp\;<a href="mailto:lleblanc@centralcss.org?subject=Student%20Presentations&amp\;body=Hello%2C%0A%0AI%20am%20interested%20in%20helping%20to%20evaluate%20the%20student%20entrepreneur%20presentations%20on%20Jan.%2030th.%20Can%20you%20please%20give%20me%20more%20details%3F%20%0A%0AThank%20you">lleblanc@centralcss.org.</a><br />\n<br />\nPresentations begin at 8 am and conclude at 11 am at the Central High School. Refreshments will be provided.</span>
LOCATION:Central High School Please reach out to Lindsey LeBlanc at lleblanc@centralcss.org.
UID:e.1367.3032
SEQUENCE:3
DTSTAMP:20260421T003145Z
URL:http://members.cityofcentralchamber.com/events/details/volunteers-needed-chs-student-presentations-3032
END:VEVENT

END:VCALENDAR
