BEGIN:VCALENDAR
VERSION:2.0
PRODID:-//ChamberMaster//Event Calendar 2.0//EN
METHOD:PUBLISH
X-PUBLISHED-TTL:P3D
REFRESH-INTERVAL:P3D
CALSCALE:GREGORIAN
BEGIN:VEVENT
DTSTART;VALUE=DATE:20221119
DTEND;VALUE=DATE:20221120
TRANSP:TRANSPARENT
X-MICROSOFT-CDO-ALLDAYEVENT:TRUE
SUMMARY:Central Christmas Campaign - Shop Small 2022 Kick Off
DESCRIPTION:Here's Where you can Shop to Win!\nAvant Tous \n\nBeau Ideal Salon\n\nBellingrath Pharmacy\n\nBlend Boutique\n\nBody Sculpt Barre\n\nCaf  Phoenicia of Central\n\nCaliente' Mexican Craving\n\nCarlton's Seafood\n\nCentral City Nutrition\n\nCentral City Steak and Seafood\n\nCentral Cross Threads\n\nCentral Outdoor Power Sales\n\nChee Chee's Playroom \n\nComputer Evolutions\, Inc.\n\nConcord Family Dental\n\nDanielle's Haircut Garage\n\nDavid's Tiger Express Mobil\n\nFantastic Sam's Hair Salon\n\nFig and Sparrow\n\niFix IT Central\n\nJ Lane Boutique\n\n\n\n \n\nLas Palmas Mexican Restaurant\n\nMerle Norman\n\nMK Boutique\n\nMy Little Sunshine\n\nOld Paths Natural Market\n\nOnce N Again\n\nRogers Regional Eye Center\n\nRoss Tire & Service\n\nSimply Malissa's Avon\n\nSimply Southern Animal Hospital\n\nSleep City\n\nSmooch My Pooch\n\nSouthern Charm Marketplace\n\nStab's Steak & Seafood\n\nSullivan's Ace Hardware\n\nThe Beautie Bar\n\nThe Hausse \n\nThe Looking Glass Beauty Lounge\n\nTrey Marino's Central Florist\n\nTwo Rivers Drug Store\n\nWingstop Central\n\nShop Small Business\n\nCentral Christmas Campaign \n\n\n\nSupport local businesses\, get your Christmas shopping done AND win a shopping spree! It's a win-win-win! Ask a Central store for a punch card to participate. \n\n\n\nCentral Businesses! Get in on the fun to get your business name out into the community and give your customers a chance to WIN by registering TODAY.
X-ALT-DESC;FMTTYPE=text/html:<div style="text-align: center\;"><span style="font-family:arial\;"><em style="color: rgb(0\, 0\, 128)\; font-size: 20px\;"><strong>Here&#39\;s Where you can Shop to Win!</strong></em></span>\n<p class="_04xlpA direction-ltr align-justify para-style-body" style="color: rgb(0\, 0\, 0)\; font-family: &quot\;YACgETiWKS8 0&quot\;\, _fb_\, auto\; --font-size:12px\; --line-height:1.53\; line-height: 18px\;"><span style="font-family:arial\;"><span class="JsGRdQ" style="font-weight: 700\;">Avant Tous</span><span class="JsGRdQ white-space-prewrap" style="font-weight: 700\;"> </span></span></p>\n\n<p class="_04xlpA direction-ltr align-justify para-style-body" style="color: rgb(0\, 0\, 0)\; font-family: &quot\;YACgETiWKS8 0&quot\;\, _fb_\, auto\; --font-size:12px\; --line-height:1.53\; line-height: 18px\;"><span style="font-family:arial\;"><span class="JsGRdQ" style="font-weight: 700\;">Beau Ideal Salon</span></span></p>\n\n<p class="_04xlpA direction-ltr align-justify para-style-body" style="color: rgb(0\, 0\, 0)\; font-family: &quot\;YACgETiWKS8 0&quot\;\, _fb_\, auto\; --font-size:12px\; --line-height:1.53\; line-height: 18px\;"><span style="font-family:arial\;"><span class="JsGRdQ" style="font-weight: 700\;">Bellingrath Pharmacy</span></span></p>\n\n<p class="_04xlpA direction-ltr align-justify para-style-body" style="color: rgb(0\, 0\, 0)\; font-family: &quot\;YACgETiWKS8 0&quot\;\, _fb_\, auto\; --font-size:12px\; --line-height:1.53\; line-height: 18px\;"><span style="font-family:arial\;"><span class="JsGRdQ" style="font-weight: 700\;">Blend Boutique</span></span></p>\n\n<p class="_04xlpA direction-ltr align-justify para-style-body" style="color: rgb(0\, 0\, 0)\; font-family: &quot\;YACgETiWKS8 0&quot\;\, _fb_\, auto\; --font-size:12px\; --line-height:1.53\; line-height: 18px\;"><span style="font-family:arial\;"><span class="JsGRdQ" style="font-weight: 700\;">Body Sculpt Barre</span></span></p>\n\n<p class="_04xlpA direction-ltr align-justify para-style-body" style="color: rgb(0\, 0\, 0)\; font-family: &quot\;YACgETiWKS8 0&quot\;\, _fb_\, auto\; --font-size:12px\; --line-height:1.53\; line-height: 18px\;"><span style="font-family:arial\;"><span class="JsGRdQ" style="font-weight: 700\;">Caf&eacute\; Phoenicia of Central</span></span></p>\n\n<p class="_04xlpA direction-ltr align-justify para-style-body" style="color: rgb(0\, 0\, 0)\; font-family: &quot\;YACgETiWKS8 0&quot\;\, _fb_\, auto\; --font-size:12px\; --line-height:1.53\; line-height: 18px\;"><span style="font-family:arial\;"><span class="JsGRdQ" style="font-weight: 700\;">Caliente&#39\; Mexican Craving</span></span></p>\n\n<p class="_04xlpA direction-ltr align-justify para-style-body" style="color: rgb(0\, 0\, 0)\; font-family: &quot\;YACgETiWKS8 0&quot\;\, _fb_\, auto\; --font-size:12px\; --line-height:1.53\; line-height: 18px\;"><span style="font-family:arial\;"><span class="JsGRdQ" style="font-weight: 700\;">Carlton&#39\;s Seafood</span></span></p>\n\n<p class="_04xlpA direction-ltr align-justify para-style-body" style="color: rgb(0\, 0\, 0)\; font-family: &quot\;YACgETiWKS8 0&quot\;\, _fb_\, auto\; --font-size:12px\; --line-height:1.53\; line-height: 18px\;"><span style="font-family:arial\;"><span class="JsGRdQ" style="font-weight: 700\;">Central City Nutrition</span></span></p>\n\n<p class="_04xlpA direction-ltr align-justify para-style-body" style="color: rgb(0\, 0\, 0)\; font-family: &quot\;YACgETiWKS8 0&quot\;\, _fb_\, auto\; --font-size:12px\; --line-height:1.53\; line-height: 18px\;"><span style="font-family:arial\;"><span class="JsGRdQ" style="font-weight: 700\;">Central City Steak and Seafood</span></span></p>\n\n<p class="_04xlpA direction-ltr align-justify para-style-body" style="color: rgb(0\, 0\, 0)\; font-family: &quot\;YACgETiWKS8 0&quot\;\, _fb_\, auto\; --font-size:12px\; --line-height:1.53\; line-height: 18px\;"><span style="font-family:arial\;"><span class="JsGRdQ" style="font-weight: 700\;">Central Cross Threads</span></span></p>\n\n<p class="_04xlpA direction-ltr align-justify para-style-body" style="color: rgb(0\, 0\, 0)\; font-family: &quot\;YACgETiWKS8 0&quot\;\, _fb_\, auto\; --font-size:12px\; --line-height:1.53\; line-height: 18px\;"><span style="font-family:arial\;"><span class="JsGRdQ" style="font-weight: 700\;">Central Outdoor Power Sales</span></span></p>\n\n<p class="_04xlpA direction-ltr align-justify para-style-body" style="color: rgb(0\, 0\, 0)\; font-family: &quot\;YACgETiWKS8 0&quot\;\, _fb_\, auto\; --font-size:12px\; --line-height:1.53\; line-height: 18px\;"><span style="font-family:arial\;"><span class="JsGRdQ" style="font-weight: 700\;">Chee Chee&#39\;s Playroom</span><span class="JsGRdQ white-space-prewrap" style="font-weight: 700\;"> </span></span></p>\n\n<p class="_04xlpA direction-ltr align-justify para-style-body" style="color: rgb(0\, 0\, 0)\; font-family: &quot\;YACgETiWKS8 0&quot\;\, _fb_\, auto\; --font-size:12px\; --line-height:1.53\; line-height: 18px\;"><span style="font-family:arial\;"><span class="JsGRdQ" style="font-weight: 700\;">Computer Evolutions\, Inc.</span></span></p>\n\n<p class="_04xlpA direction-ltr align-justify para-style-body" style="color: rgb(0\, 0\, 0)\; font-family: &quot\;YACgETiWKS8 0&quot\;\, _fb_\, auto\; --font-size:12px\; --line-height:1.53\; line-height: 18px\;"><span style="font-family:arial\;"><span class="JsGRdQ" style="font-weight: 700\;">Concord Family Dental</span></span></p>\n\n<p class="_04xlpA direction-ltr align-justify para-style-body" style="color: rgb(0\, 0\, 0)\; font-family: &quot\;YACgETiWKS8 0&quot\;\, _fb_\, auto\; --font-size:12px\; --line-height:1.53\; line-height: 18px\;"><span style="font-family:arial\;"><span class="JsGRdQ" style="font-weight: 700\;">Danielle&#39\;s Haircut Garage</span></span></p>\n\n<p class="_04xlpA direction-ltr align-justify para-style-body" style="color: rgb(0\, 0\, 0)\; font-family: &quot\;YACgETiWKS8 0&quot\;\, _fb_\, auto\; --font-size:12px\; --line-height:1.53\; line-height: 18px\;"><span style="font-family:arial\;"><span class="JsGRdQ" style="font-weight: 700\;">David&#39\;s Tiger Express Mobil</span></span></p>\n\n<p class="_04xlpA direction-ltr align-justify para-style-body" style="color: rgb(0\, 0\, 0)\; font-family: &quot\;YACgETiWKS8 0&quot\;\, _fb_\, auto\; --font-size:12px\; --line-height:1.53\; line-height: 18px\;"><span style="font-family:arial\;"><span class="JsGRdQ" style="font-weight: 700\;">Fantastic Sam&#39\;s Hair Salon</span></span></p>\n\n<p class="_04xlpA direction-ltr align-justify para-style-body" style="color: rgb(0\, 0\, 0)\; font-family: &quot\;YACgETiWKS8 0&quot\;\, _fb_\, auto\; --font-size:12px\; --line-height:1.53\; line-height: 18px\;"><span style="font-family:arial\;"><span class="JsGRdQ" style="font-weight: 700\;">Fig and Sparrow</span></span></p>\n\n<p class="_04xlpA direction-ltr align-justify para-style-body" style="color: rgb(0\, 0\, 0)\; font-family: &quot\;YACgETiWKS8 0&quot\;\, _fb_\, auto\; --font-size:12px\; --line-height:1.53\; line-height: 18px\;"><span style="font-family:arial\;"><span class="JsGRdQ" style="font-weight: 700\;">iFix IT Central</span></span></p>\n\n<p class="_04xlpA direction-ltr align-justify para-style-body" style="color: rgb(0\, 0\, 0)\; font-family: &quot\;YACgETiWKS8 0&quot\;\, _fb_\, auto\; --font-size:12px\; --line-height:1.53\; line-height: 18px\;"><span style="font-family:arial\;"><span class="JsGRdQ" style="font-weight: 700\;">J Lane Boutique</span></span><br />\n<br />\n&nbsp\;</p>\n\n<p class="_04xlpA direction-ltr align-justify para-style-body" style="color: rgb(0\, 0\, 0)\; font-family: &quot\;YACgETiWKS8 0&quot\;\, _fb_\, auto\; --font-size:12px\; --line-height:1.52\; line-height: 18px\;"><span style="font-family:arial\;"><span class="JsGRdQ" style="font-weight: 700\;">Las Palmas Mexican Restaurant</span></span></p>\n\n<p class="_04xlpA direction-ltr align-justify para-style-body" style="color: rgb(0\, 0\, 0)\; font-family: &quot\;YACgETiWKS8 0&quot\;\, _fb_\, auto\; --font-size:12px\; --line-height:1.52\; line-height: 18px\;"><span style="font-family:arial\;"><span class="JsGRdQ" style="font-weight: 700\;">Merle Norman</span></span></p>\n\n<p class="_04xlpA direction-ltr align-justify para-style-body" style="color: rgb(0\, 0\, 0)\; font-family: &quot\;YACgETiWKS8 0&quot\;\, _fb_\, auto\; --font-size:12px\; --line-height:1.52\; line-height: 18px\;"><span style="font-family:arial\;"><span class="JsGRdQ" style="font-weight: 700\;">MK Boutique</span></span></p>\n\n<p class="_04xlpA direction-ltr align-justify para-style-body" style="color: rgb(0\, 0\, 0)\; font-family: &quot\;YACgETiWKS8 0&quot\;\, _fb_\, auto\; --font-size:12px\; --line-height:1.52\; line-height: 18px\;"><span style="font-family:arial\;"><span class="JsGRdQ" style="font-weight: 700\;">My Little Sunshine</span></span></p>\n\n<p class="_04xlpA direction-ltr align-justify para-style-body" style="color: rgb(0\, 0\, 0)\; font-family: &quot\;YACgETiWKS8 0&quot\;\, _fb_\, auto\; --font-size:12px\; --line-height:1.52\; line-height: 18px\;"><span style="font-family:arial\;"><span class="JsGRdQ" style="font-weight: 700\;">Old Paths Natural Market</span></span></p>\n\n<p class="_04xlpA direction-ltr align-justify para-style-body" style="color: rgb(0\, 0\, 0)\; font-family: &quot\;YACgETiWKS8 0&quot\;\, _fb_\, auto\; --font-size:12px\; --line-height:1.52\; line-height: 18px\;"><span style="font-family:arial\;"><span class="JsGRdQ" style="font-weight: 700\;">Once N Again</span></span></p>\n\n<p class="_04xlpA direction-ltr align-justify para-style-body" style="color: rgb(0\, 0\, 0)\; font-family: &quot\;YACgETiWKS8 0&quot\;\, _fb_\, auto\; --font-size:12px\; --line-height:1.52\; line-height: 18px\;"><span style="font-family:arial\;"><span class="JsGRdQ" style="font-weight: 700\;">Rogers Regional Eye Center</span></span></p>\n\n<p class="_04xlpA direction-ltr align-justify para-style-body" style="color: rgb(0\, 0\, 0)\; font-family: &quot\;YACgETiWKS8 0&quot\;\, _fb_\, auto\; --font-size:12px\; --line-height:1.52\; line-height: 18px\;"><span style="font-family:arial\;"><span class="JsGRdQ" style="font-weight: 700\;">Ross Tire &amp\; Service</span></span></p>\n\n<p class="_04xlpA direction-ltr align-justify para-style-body" style="color: rgb(0\, 0\, 0)\; font-family: &quot\;YACgETiWKS8 0&quot\;\, _fb_\, auto\; --font-size:12px\; --line-height:1.52\; line-height: 18px\;"><span style="font-family:arial\;"><span class="JsGRdQ" style="font-weight: 700\;">Simply Malissa&#39\;s Avon</span></span></p>\n\n<p class="_04xlpA direction-ltr align-justify para-style-body" style="color: rgb(0\, 0\, 0)\; font-family: &quot\;YACgETiWKS8 0&quot\;\, _fb_\, auto\; --font-size:12px\; --line-height:1.52\; line-height: 18px\;"><span style="font-family:arial\;"><span class="JsGRdQ" style="font-weight: 700\;">Simply Southern Animal Hospital</span></span></p>\n\n<p class="_04xlpA direction-ltr align-justify para-style-body" style="color: rgb(0\, 0\, 0)\; font-family: &quot\;YACgETiWKS8 0&quot\;\, _fb_\, auto\; --font-size:12px\; --line-height:1.52\; line-height: 18px\;"><span style="font-family:arial\;"><span class="JsGRdQ" style="font-weight: 700\;">Sleep City</span></span></p>\n\n<p class="_04xlpA direction-ltr align-justify para-style-body" style="color: rgb(0\, 0\, 0)\; font-family: &quot\;YACgETiWKS8 0&quot\;\, _fb_\, auto\; --font-size:12px\; --line-height:1.52\; line-height: 18px\;"><span style="font-family:arial\;"><span class="JsGRdQ" style="font-weight: 700\;">Smooch My Pooch</span></span></p>\n\n<p class="_04xlpA direction-ltr align-justify para-style-body" style="color: rgb(0\, 0\, 0)\; font-family: &quot\;YACgETiWKS8 0&quot\;\, _fb_\, auto\; --font-size:12px\; --line-height:1.52\; line-height: 18px\;"><span style="font-family:arial\;"><span class="JsGRdQ" style="font-weight: 700\;">Southern Charm Marketplace</span></span></p>\n\n<p class="_04xlpA direction-ltr align-justify para-style-body" style="color: rgb(0\, 0\, 0)\; font-family: &quot\;YACgETiWKS8 0&quot\;\, _fb_\, auto\; --font-size:12px\; --line-height:1.52\; line-height: 18px\;"><span style="font-family:arial\;"><span class="JsGRdQ" style="font-weight: 700\;">Stab&#39\;s Steak &amp\; Seafood</span></span></p>\n\n<p class="_04xlpA direction-ltr align-justify para-style-body" style="color: rgb(0\, 0\, 0)\; font-family: &quot\;YACgETiWKS8 0&quot\;\, _fb_\, auto\; --font-size:12px\; --line-height:1.52\; line-height: 18px\;"><span style="font-family:arial\;"><span class="JsGRdQ" style="font-weight: 700\;">Sullivan&#39\;s Ace Hardware</span></span></p>\n\n<p class="_04xlpA direction-ltr align-justify para-style-body" style="color: rgb(0\, 0\, 0)\; font-family: &quot\;YACgETiWKS8 0&quot\;\, _fb_\, auto\; --font-size:12px\; --line-height:1.52\; line-height: 18px\;"><span style="font-family:arial\;"><span class="JsGRdQ" style="font-weight: 700\;">The Beautie Bar</span></span></p>\n\n<p class="_04xlpA direction-ltr align-justify para-style-body" style="color: rgb(0\, 0\, 0)\; font-family: &quot\;YACgETiWKS8 0&quot\;\, _fb_\, auto\; --font-size:12px\; --line-height:1.52\; line-height: 18px\;"><span style="font-family:arial\;"><span class="JsGRdQ" style="font-weight: 700\;">The Hausse</span><span class="JsGRdQ white-space-prewrap" style="font-weight: 700\;"> </span></span></p>\n\n<p class="_04xlpA direction-ltr align-justify para-style-body" style="color: rgb(0\, 0\, 0)\; font-family: &quot\;YACgETiWKS8 0&quot\;\, _fb_\, auto\; --font-size:12px\; --line-height:1.52\; line-height: 18px\;"><span style="font-family:arial\;"><span class="JsGRdQ" style="font-weight: 700\;">The Looking Glass Beauty Lounge</span></span></p>\n\n<p class="_04xlpA direction-ltr align-justify para-style-body" style="color: rgb(0\, 0\, 0)\; font-family: &quot\;YACgETiWKS8 0&quot\;\, _fb_\, auto\; --font-size:12px\; --line-height:1.52\; line-height: 18px\;"><span style="font-family:arial\;"><span class="JsGRdQ" style="font-weight: 700\;">Trey Marino&#39\;s Central Florist</span></span></p>\n\n<p class="_04xlpA direction-ltr align-justify para-style-body" style="color: rgb(0\, 0\, 0)\; font-family: &quot\;YACgETiWKS8 0&quot\;\, _fb_\, auto\; --font-size:12px\; --line-height:1.52\; line-height: 18px\;"><span style="font-family:arial\;"><span class="JsGRdQ" style="font-weight: 700\;">Two Rivers Drug Store</span></span></p>\n\n<p class="_04xlpA direction-ltr align-justify para-style-body" style="color: rgb(0\, 0\, 0)\; font-family: &quot\;YACgETiWKS8 0&quot\;\, _fb_\, auto\; --font-size:12px\; --line-height:1.52\; line-height: 18px\;"><span style="font-family:arial\;"><span class="JsGRdQ" style="font-weight: 700\;">Wingstop Central</span></span></p>\n</div>\n<span style="font-size:20px\;"><span style="color:#000080\;"><em><strong>Shop Small Business<br />\nCentral Christmas Campaign&nbsp\;</strong></em></span></span><br />\n<br />\n<span style="font-size:16px\;">Support local businesses\, get your Christmas shopping done AND win a shopping spree! It&#39\;s a win-win-win! Ask a Central store for a punch card to participate.&nbsp\;</span><br />\n<br />\n<span style="font-size:16px\;">Central Businesses! Get in on the fun to get your business name out into the community and give your customers a chance to WIN by registering TODAY.</span>
LOCATION:Avant Tous Beau Ideal Salon Bellingrath Pharmacy Blend Boutique Body Sculpt Barre Caf Phoenicia of Central Caliente' Mexican Craving Carlton's Seafood Central City Nutrition Central City Steak and Seafood Central Cross Threads Central Outdoor Power Sales Chee Chee's Playroom Computer Evolutions\, Inc. Concord Family Dental Danielle's Haircut Garage David's Tiger Express Mobil Fantastic Sam's Hair Salon Fig and Sparrow iFix IT Central J Lane Boutique Las Palmas Mexican Restaurant Merle Norman MK Boutique My Little Sunshine Old Paths Natural Market Once N Again Rogers Regional Eye Center Ross Tire & Service Simply Malissa's Avon Simply Southern Animal Hospital Sleep City Smooch My Pooch Southern Charm Marketplace Stab's Steak & Seafood Sullivan's Ace Hardware The Beautie Bar The Hausse The Looking Glass Beauty Lounge Trey Marino's Central Florist Two Rivers Drug Store Wingstop Central
UID:e.1367.3086
SEQUENCE:3
DTSTAMP:20260422T210539Z
URL:https://members.cityofcentralchamber.com/events/details/central-christmas-campaign-shop-small-2022-kick-off-3086
END:VEVENT

END:VCALENDAR
