BEGIN:VCALENDAR
VERSION:2.0
PRODID:-//ChamberMaster//Event Calendar 2.0//EN
METHOD:PUBLISH
X-PUBLISHED-TTL:P3D
REFRESH-INTERVAL:P3D
CALSCALE:GREGORIAN
BEGIN:VEVENT
DTSTART:20230306T224500Z
DTEND:20230306T230000Z
X-MICROSOFT-CDO-ALLDAYEVENT:FALSE
SUMMARY:Central Community Theatre - Ribbon Cutting
DESCRIPTION:Come join us in the Celebration of Central Community Theatre's Grand Opening and Celebration of their "New Home" in Central!
X-ALT-DESC;FMTTYPE=text/html:Come join us in the Celebration of Central Community Theatre&#39\;s Grand Opening and Celebration of their &quot\;New Home&quot\; in Central!&nbsp\;
LOCATION:11257 Lovett Road
UID:e.1367.3103
SEQUENCE:3
DTSTAMP:20260422T140429Z
URL:https://members.cityofcentralchamber.com/events/details/central-community-theatre-ribbon-cutting-3103
END:VEVENT

END:VCALENDAR
