BEGIN:VCALENDAR
VERSION:2.0
PRODID:-//ChamberMaster//Event Calendar 2.0//EN
METHOD:PUBLISH
X-PUBLISHED-TTL:P3D
REFRESH-INTERVAL:P3D
CALSCALE:GREGORIAN
BEGIN:VEVENT
DTSTART:20221006T153000Z
DTEND:20221006T160000Z
X-MICROSOFT-CDO-ALLDAYEVENT:FALSE
SUMMARY:Erica Rasti - State Farm Agent
DESCRIPTION:Come Help Us Welcome \n\nErica Rasti- State Farm Agent\n\nto Central
X-ALT-DESC;FMTTYPE=text/html:<div style="text-align: center\;"><font face="verdana"><span style="font-size: 18px\;"><b>Come Help Us Welcome&nbsp\;<br />\nErica Rasti- State Farm Agent<br />\nto Central</b></span></font><br />\n<br />\n&nbsp\;</div>\n
LOCATION:18564 Magnolia Bridge Rd Ste 102 Greenwell Springs\, LA 70739
UID:e.1367.3083
SEQUENCE:3
DTSTAMP:20260422T044003Z
URL:https://members.cityofcentralchamber.com/events/details/erica-rasti-state-farm-agent-3083
END:VEVENT

END:VCALENDAR
