BEGIN:VCALENDAR
VERSION:2.0
PRODID:-//ChamberMaster//Event Calendar 2.0//EN
METHOD:PUBLISH
X-PUBLISHED-TTL:P3D
REFRESH-INTERVAL:P3D
CALSCALE:GREGORIAN
BEGIN:VEVENT
DTSTART:20230310T173000Z
DTEND:20230310T183000Z
X-MICROSOFT-CDO-ALLDAYEVENT:FALSE
SUMMARY:Geaux Yo - Ribbon Cutting
DESCRIPTION:Join Us as we Celebrate the Grand Opening of Geaux Yo in Central!
X-ALT-DESC;FMTTYPE=text/html:<font color="#050505" face="Segoe UI Historic\, Segoe UI\, Helvetica\, Arial\, sans-serif"><span style="font-size: 15px\;">Join Us as we Celebrate the Grand Opening of Geaux Yo in Central!&nbsp\;</span></font>
LOCATION:14350 Wax Rd\, Suite 107\, Baton Rouge\, LA
UID:e.1367.3101
SEQUENCE:3
DTSTAMP:20260422T140415Z
URL:https://members.cityofcentralchamber.com/events/details/geaux-yo-ribbon-cutting-3101
END:VEVENT

END:VCALENDAR
