BEGIN:VCALENDAR
VERSION:2.0
PRODID:-//ChamberMaster//Event Calendar 2.0//EN
METHOD:PUBLISH
X-PUBLISHED-TTL:P3D
REFRESH-INTERVAL:P3D
CALSCALE:GREGORIAN
BEGIN:VEVENT
DTSTART:20190517T162500Z
DTEND:20190517T180000Z
X-MICROSOFT-CDO-ALLDAYEVENT:FALSE
SUMMARY:Making Marketing Happen
DESCRIPTION:MAKING MARKETING HAPPEN
X-ALT-DESC;FMTTYPE=text/html:MAKING MARKETING HAPPEN\n<div align="center" style="color: rgb(126\, 126\, 126)\; font-family: Georgia\, &quot\;Times New Roman&quot\;\, Times\, serif\; font-size: 16px\; background-color: rgb(241\, 241\, 241)\; text-align: center\;">&nbsp\;</div>\n
LOCATION:CALIENTE MEXICAN CRAVING
UID:e.1367.2751
SEQUENCE:3
DTSTAMP:20260425T145506Z
URL:https://members.cityofcentralchamber.com/events/details/making-marketing-happen-2751
END:VEVENT

END:VCALENDAR
