BEGIN:VCALENDAR
VERSION:2.0
PRODID:-//ChamberMaster//Event Calendar 2.0//EN
METHOD:PUBLISH
X-PUBLISHED-TTL:P3D
REFRESH-INTERVAL:P3D
CALSCALE:GREGORIAN
BEGIN:VEVENT
DTSTART:20230614T163000Z
DTEND:20230614T180000Z
X-MICROSOFT-CDO-ALLDAYEVENT:FALSE
SUMMARY:Members' Monthly Meeting
DESCRIPTION:Join us for a legislative update from Bodi White and Barry Ivey.\n\nAll attendees should be pre-registered and pre-paid. Thank you for your cooperation!\n\n\n\nThe Menu for this event is as follows:\n\nRibeye steaks\n\nFried Fish\n\nSalad\n\nLoaded Mashed Potatoes\n\nGreen Beans\n\nGarlic French Bread\n\nCheesecake
X-ALT-DESC;FMTTYPE=text/html:<span style="box-sizing: border-box\; color: rgb(0\, 0\, 0)\; font-family: arial\; font-size: 16px\; white-space: pre-wrap\;">Join us for a legislative update from Bodi White and Barry Ivey.<br />\nAll attendees should be <span style="box-sizing: border-box\; font-weight: bolder\;">pre-registered and pre-paid. </span>Thank you for your cooperation!<br />\n<br />\nThe Menu for this event is as follows:</span><br />\nRibeye steaks<br />\nFried Fish<br />\nSalad<br />\nLoaded Mashed Potatoes<br />\nGreen Beans<br />\nGarlic French Bread<br />\nCheesecake&nbsp\;&nbsp\;<br />\n&nbsp\;
LOCATION:Kristenwood
UID:e.1367.1708
SEQUENCE:3
DTSTAMP:20260422T092205Z
URL:https://members.cityofcentralchamber.com/events/details/members-monthly-meeting-1708
END:VEVENT

END:VCALENDAR
