BEGIN:VCALENDAR
VERSION:2.0
PRODID:-//ChamberMaster//Event Calendar 2.0//EN
METHOD:PUBLISH
X-PUBLISHED-TTL:P3D
REFRESH-INTERVAL:P3D
CALSCALE:GREGORIAN
BEGIN:VEVENT
DTSTART:20220730T140000Z
DTEND:20220730T170000Z
X-MICROSOFT-CDO-ALLDAYEVENT:FALSE
SUMMARY:Pelican State Credit Union - FREE - Kids Bike Race - Free Sponsor Opportunity
DESCRIPTION:Pelican State Credit Union is hosting our 18th Annual Free Kids Bike Race in Denham Springs on Saturday\, July 30\, and we would LOVE sponsors to have a booth at the event with free samples and the opportunity to put promotional materials in the goody bags at no cost! \n\n \n\nKids ages 12 and under (and their parents) are invited to participate in this healthy and FREE event. We usually have over 100 parents and kids from all across Livingston Parish in attendance. Each participant receives a medal of completion\, goody bag\, free shirt\, and a chance to win one of three parties at Urban Air Adventure Park?all while enjoying refreshments and fun activities provided by local businesses and organizations like you!\n\n \n\nEach racer and their parent will be entered to win countless door prizes throughout the event!\n\n\n\nEvent details:\n\n	WHEN: Saturday\, July 30\, 2022\n	WHERE: Abundant Life Church in Denham Springs\n	VENDOR SET-UP: By 8:30 am\n	CHECK-IN: 9 am\n	CLEAN UP: 11-noon\n	Registration Page: https://www.eventbrite.com/e/free-kids-bike-race-tickets-372800535437\n\n \n\nThere are several ways for your business or organization to participate in our Bike Race for FREE:\n\n\n	Set-Up Tent\, Table\, or Booth with Games\, Giveaways\, and/or Refreshments\n	Provide Items or Coupons for the Goody Bags\n	Send Your Mascot to Hang Out with Petey the Pelican\n	Donate Refreshments for us to Distribute\n	Provide Music\, Medals\, Shirts\, Jumpers\, Restrooms\, First Aid Station\, or Tire Station\n	Bring Your Firetruck\, Police Car\, Dump Truck\, or Other Fun Vehicle to the Event\n	Donate Door Prizes for Parents and Kids\n\n \n\nAll companies and organizations that participate will be featured at the event\, in a post on the Facebook event\, on Pelican?s website\, and in the post-race press release sent to the local media.
X-ALT-DESC;FMTTYPE=text/html:<strong><span style="color:#E84683\;">Pelican State Credit Union is hosting our 18<sup>th</sup> Annual Free Kids Bike Race in Denham Springs on Saturday\, July 30\, and we would LOVE sponsors to have a booth at the event with free samples and the opportunity to put promotional materials in the goody bags</span> <span style="color:#E84683\;">at no cost!</span> </strong><br>\n&nbsp\;<br>\nKids ages 12 and under (and their parents) are invited to participate in this healthy and FREE event. We usually have<strong> over 100 parents and kids from all across Livingston Parish</strong> in attendance. Each participant receives a medal of completion\, goody bag\, free shirt\, and a chance to win one of three parties at Urban Air Adventure Park?all while enjoying refreshments and fun activities <u>provided by local businesses and organizations like you!</u><br>\n&nbsp\;<br>\nEach racer and their parent will be entered to win countless door prizes throughout the event!<br>\n<br>\n<strong><span style="color:#E84683\;">Event details:</span></strong>\n<ul>\n	<li style="margin-left:0in\;">WHEN: Saturday\, July 30\, 2022</li>\n	<li style="margin-left:0in\;">WHERE: Abundant Life Church in Denham Springs</li>\n	<li style="margin-left:0in\;">VENDOR SET-UP: By 8:30 am</li>\n	<li style="margin-left:0in\;">CHECK-IN: 9 am</li>\n	<li style="margin-left:0in\;">CLEAN UP: 11-noon</li>\n	<li style="margin-left:0in\;">Registration Page: <a href="https://www.eventbrite.com/e/free-kids-bike-race-tickets-372800535437">https://www.eventbrite.com/e/free-kids-bike-race-tickets-372800535437</a></li>\n</ul>\n&nbsp\;<br>\n<strong><span style="color:#E84683\;">There are several ways for your business or organization to participate in our Bike Race for FREE:</span></strong>\n\n<ul>\n	<li style="margin-left:0in\;">Set-Up Tent\, Table\, or Booth with Games\, Giveaways\, and/or Refreshments</li>\n	<li style="margin-left:0in\;">Provide Items or Coupons for the Goody Bags</li>\n	<li style="margin-left:0in\;">Send Your Mascot to Hang Out with Petey the Pelican</li>\n	<li style="margin-left:0in\;">Donate Refreshments for us to Distribute</li>\n	<li style="margin-left:0in\;">Provide Music\, Medals\, Shirts\, Jumpers\, Restrooms\, First Aid Station\, or Tire Station</li>\n	<li style="margin-left:0in\;">Bring Your Firetruck\, Police Car\, Dump Truck\, or Other Fun Vehicle to the Event</li>\n	<li style="margin-left:0in\;">Donate Door Prizes for Parents and Kids</li>\n</ul>\n&nbsp\;<br>\nAll companies and organizations that participate will be featured at the event\, in a post on the Facebook event\, on Pelican?s website\, and in the post-race press release sent to the local media.
LOCATION:Abundant Life Church in Denham Springs
UID:e.1367.3072
SEQUENCE:3
DTSTAMP:20260423T030524Z
URL:https://members.cityofcentralchamber.com/events/details/pelican-state-credit-union-free-kids-bike-race-free-sponsor-opportunity-3072
END:VEVENT

END:VCALENDAR
