BEGIN:VCALENDAR
VERSION:2.0
PRODID:-//ChamberMaster//Event Calendar 2.0//EN
METHOD:PUBLISH
X-PUBLISHED-TTL:P3D
REFRESH-INTERVAL:P3D
CALSCALE:GREGORIAN
BEGIN:VEVENT
DTSTART:20230505T170000Z
DTEND:20230505T173000Z
X-MICROSOFT-CDO-ALLDAYEVENT:FALSE
SUMMARY:Ross Tire - Grand ReOpening & Ribbon Cutting
DESCRIPTION:Join us for the Grand ReOpening of Ross Tire!
X-ALT-DESC;FMTTYPE=text/html:<span style="font-family:arial\;">Join us for the Grand ReOpening of Ross Tire!&nbsp\;</span>
LOCATION:14330 Greenwell Springs Road City of Central\, LA
UID:e.1367.3119
SEQUENCE:3
DTSTAMP:20260422T105006Z
URL:https://members.cityofcentralchamber.com/events/details/ross-tire-grand-reopening-ribbon-cutting-3119
END:VEVENT

END:VCALENDAR
