BEGIN:VCALENDAR
VERSION:2.0
PRODID:-//ChamberMaster//Event Calendar 2.0//EN
METHOD:PUBLISH
X-PUBLISHED-TTL:P3D
REFRESH-INTERVAL:P3D
CALSCALE:GREGORIAN
BEGIN:VEVENT
DTSTART:20211028T150000Z
DTEND:20211030T210000Z
X-MICROSOFT-CDO-ALLDAYEVENT:FALSE
SUMMARY:Sip & Shop at Streamline Interiors
DESCRIPTION:You're invited to SIP & SHOP at Streamline Interiors \n\n\n\nOne of a kind Oushak rugs curated in New York\n\n\n\nOct. 28 | 10 am to 4 pm\n\nOct. 29 | 10 am to 4 pm\n\nOct. 30 | 10 am to 2 pm\n\n\n\nStreamline Storefront \n\n157 Staring Lane
X-ALT-DESC;FMTTYPE=text/html:<span style="font-size:16px\;">You&#39\;re invited to SIP &amp\; SHOP at Streamline Interiors&nbsp\;<br />\n<br />\n<strong>One of a kind Oushak rugs curated in New York</strong><br />\n<br />\nOct. 28 | 10 am to 4 pm<br />\nOct. 29 | 10 am to 4 pm<br />\nOct. 30 | 10 am to 2 pm<br />\n<br />\n<strong>Streamline Storefront&nbsp\;</strong><br />\n157 Staring Lane</span>
LOCATION:Streamline Storefront 157 Staring Lane
UID:e.1367.3015
SEQUENCE:3
DTSTAMP:20260423T201739Z
URL:https://members.cityofcentralchamber.com/events/details/sip-shop-at-streamline-interiors-3015
END:VEVENT

END:VCALENDAR
