BEGIN:VCALENDAR
VERSION:2.0
PRODID:-//ChamberMaster//Event Calendar 2.0//EN
METHOD:PUBLISH
X-PUBLISHED-TTL:P3D
REFRESH-INTERVAL:P3D
CALSCALE:GREGORIAN
BEGIN:VEVENT
DTSTART:20220604T140000Z
DTEND:20220604T220000Z
X-MICROSOFT-CDO-ALLDAYEVENT:FALSE
SUMMARY:Southern Charm Ribbon Cutting - Summer Celebration
DESCRIPTION:Southern Charm is celebrating 1 year of new a new owner.  Come celebrate with Jill and her amazing group!
X-ALT-DESC;FMTTYPE=text/html:Southern Charm is celebrating 1 year of new a new owner.&nbsp\; Come celebrate with Jill and her amazing group!&nbsp\;&nbsp\;
LOCATION:13421 Hooper Rd\, Baton Rouge\, LA 70818
UID:e.1367.3068
SEQUENCE:3
DTSTAMP:20260423T042539Z
URL:https://members.cityofcentralchamber.com/events/details/southern-charm-ribbon-cutting-summer-celebration-3068
END:VEVENT

END:VCALENDAR
