BEGIN:VCALENDAR
VERSION:2.0
PRODID:-//ChamberMaster//Event Calendar 2.0//EN
METHOD:PUBLISH
X-PUBLISHED-TTL:P3D
REFRESH-INTERVAL:P3D
CALSCALE:GREGORIAN
BEGIN:VEVENT
DTSTART:20221230T170000Z
DTEND:20221230T180000Z
X-MICROSOFT-CDO-ALLDAYEVENT:FALSE
SUMMARY:Swearing In Ceremony for New Mayor and Council
DESCRIPTION:Mayor:\n\nWade Evans\n\n\n\nCouncil Members:\n\nKim Fralick\n\nJ.D. Lavergne\n\nTim Lazaroe\n\nAaron McKinney\n\n Briton Myer\n\nJosh Roy \n\nD'Ann Wells
X-ALT-DESC;FMTTYPE=text/html:<p style="text-align: center\;"><span style="font-size:16px\;"><span style="font-family:arial\;"><strong><u>Mayor:</u><br />\n<span style="font-size:20px\;">Wade Evans</span></strong></span></span><br />\n<br />\n<span style="font-family: Arial\, Helvetica\, sans-serif\; font-size: 14px\; background-color: rgb(254\, 254\, 254)\;"><span style="font-size:16px\;"><span style="font-family:arial\;"><strong><u>Council Members:</u><br />\nKim Fralick<br />\nJ.D. Lavergne</strong></span></span></span><br />\n<strong style="font-family: arial\; font-size: 16px\; background-color: rgb(254\, 254\, 254)\;">Tim Lazaroe<br />\nAaron McKinney<br />\n&#8203\;Briton Myer<br />\nJosh Roy&nbsp\;<br />\nD&rsquo\;Ann Wells</strong></p>\n
LOCATION:Kristenwood Reception Hall
UID:e.1367.3094
SEQUENCE:3
DTSTAMP:20260422T000823Z
URL:https://members.cityofcentralchamber.com/events/details/swearing-in-ceremony-for-new-mayor-and-council-3094
END:VEVENT

END:VCALENDAR
