BEGIN:VCALENDAR
VERSION:2.0
PRODID:-//ChamberMaster//Event Calendar 2.0//EN
METHOD:PUBLISH
X-PUBLISHED-TTL:P3D
REFRESH-INTERVAL:P3D
CALSCALE:GREGORIAN
BEGIN:VEVENT
DTSTART:20221207T223000Z
DTEND:20221208T003000Z
X-MICROSOFT-CDO-ALLDAYEVENT:FALSE
SUMMARY:The Claiborne - Festival of Wreaths
DESCRIPTION:Festive Open House at The Claiborne at Shoe Creek. \n\nEnjoy refreshments\, carolers\, and musicians from Central High School Jazz Combo while you stroll through the Claiborne Community and view the hand-decorated wreaths and vote for your favorites.  \n\n\n\nRSVP HERE
X-ALT-DESC;FMTTYPE=text/html:<p>Festive Open House at The Claiborne at Shoe Creek.&nbsp\;</p>\n\n<p>Enjoy refreshments\, carolers\, and musicians from Central High School Jazz Combo while you stroll through the Claiborne Community and view the hand-decorated wreaths and vote for your favorites.&nbsp\;&nbsp\;<br />\n<br />\n<a href="https://fb.me/e/3UHCBxCNd">RSVP HERE</a></p>\n
LOCATION:The Claiborne at Shoe Creek: 9750 Couret Dr\, Central\, LA 70818
UID:e.1367.3090
SEQUENCE:3
DTSTAMP:20260422T000902Z
URL:https://members.cityofcentralchamber.com/events/details/the-claiborne-festival-of-wreaths-3090
END:VEVENT

END:VCALENDAR
