BEGIN:VCALENDAR
VERSION:2.0
PRODID:-//ChamberMaster//Event Calendar 2.0//EN
METHOD:PUBLISH
X-PUBLISHED-TTL:P3D
REFRESH-INTERVAL:P3D
CALSCALE:GREGORIAN
BEGIN:VEVENT
DTSTART:20221203T003000Z
DTEND:20221203T013000Z
X-MICROSOFT-CDO-ALLDAYEVENT:FALSE
SUMMARY:Tree Lighting Ceremony
DESCRIPTION:Tree Lighting Ceremony\n\n\n\nThe ceremony includes opening announcements\, Santa's arrival\, music by CHS Jazz Band\, a reading from the Gospel of Luke\, lighting the nativity and lighting the tree and fireworks.
X-ALT-DESC;FMTTYPE=text/html:<span style="font-size:16px\;"><strong>Tree Lighting Ceremony</strong></span><br />\n<br />\nThe ceremony includes opening announcements\, Santa&#39\;s arrival\, music by CHS Jazz Band\, a reading from the Gospel of Luke\, lighting the nativity and lighting the tree and fireworks.&nbsp\;
LOCATION:Corner of Sullivan and Hooper
UID:e.1367.3092
SEQUENCE:3
DTSTAMP:20260422T000740Z
URL:https://members.cityofcentralchamber.com/events/details/tree-lighting-ceremony-3092
END:VEVENT

END:VCALENDAR
